BEGIN:VCALENDAR
PRODID:-//eluceo/ical//2.0/EN
VERSION:2.0
CALSCALE:GREGORIAN
BEGIN:VEVENT
UID:f58af5dcca4452e83b1c600f6d15362d
DTSTAMP:20260422T141338Z
SUMMARY:Books of Jewish Interest
DESCRIPTION:Jewish Federation of New Hampshire\nCommunity Calendar\nhttps:/
 /jewishnh.org/community-calendar/books-of-jewish-interest\n\nThe book to b
 e discussed will be Minyan by John Clayton. More information: gailkr48@gma
 il.com
DTSTART;TZID=America/New_York:20170726T120000
DTEND;TZID=America/New_York:20170726T130000
END:VEVENT
END:VCALENDAR
