BEGIN:VCALENDAR
PRODID:-//eluceo/ical//2.0/EN
VERSION:2.0
CALSCALE:GREGORIAN
BEGIN:VEVENT
UID:228683e99819f7d1c2b57ac13da50b1d
DTSTAMP:20260422T035146Z
SUMMARY:Braverman Chanukah Party
DESCRIPTION:Jewish Federation of New Hampshire\nCommunity Calendar\nhttps:/
 /jewishnh.org/community-calendar/braverman-chanukah-party-1573061268\n\nCo
 me celebrate Chanukah with us!
DTSTART;TZID=America/New_York:20191222T114500
DTEND;TZID=America/New_York:20191222T134500
END:VEVENT
END:VCALENDAR
