BEGIN:VCALENDAR
PRODID:-//eluceo/ical//2.0/EN
VERSION:2.0
CALSCALE:GREGORIAN
BEGIN:VEVENT
UID:88df6e8fa2225f45d2660a5dcedfbe42
DTSTAMP:20260422T154651Z
SUMMARY:Temple Israel Braverman Chanukah Party
DESCRIPTION:Jewish Federation of New Hampshire\nCommunity Calendar\nhttps:/
 /jewishnh.org/community-calendar/braverman-chanukah-party-1670412372\n\nJo
 in us to celebrate Chanukah! RSVP required. Email office@templeisraelmht.o
 rg for registration form.
DTSTART;TZID=America/New_York:20221218T120000
DTEND;TZID=America/New_York:20221218T140000
END:VEVENT
END:VCALENDAR
