BEGIN:VCALENDAR
PRODID:-//eluceo/ical//2.0/EN
VERSION:2.0
CALSCALE:GREGORIAN
BEGIN:VEVENT
UID:2033096e7d4d337332873ae499484ec2
DTSTAMP:20260422T103721Z
SUMMARY:Temple Israel Braverman Chanukah Party
DESCRIPTION:Jewish Federation of New Hampshire\nCommunity Calendar\nhttps:/
 /jewishnh.org/community-calendar/braverman-chanukah-party-1699965800\n\nOu
 r annual party followed by lighting the Menorah.\n\nAn RSVP is required by
  noon on Dec 1. Please use the link on our website to RSVP\, or call the o
 ffice at 603.622.6171.
DTSTART;TZID=America/New_York:20231210T123000
DTEND;TZID=America/New_York:20231210T151500
END:VEVENT
END:VCALENDAR
