BEGIN:VCALENDAR
PRODID:-//eluceo/ical//2.0/EN
VERSION:2.0
CALSCALE:GREGORIAN
BEGIN:VEVENT
UID:5e4d5cbe28d30799670450678b21dc7a
DTSTAMP:20260422T095026Z
SUMMARY:BRCA1 and BRCA2: The Ashkenazi Jewish Connection
DESCRIPTION:Jewish Federation of New Hampshire\nCommunity Calendar\nhttps:/
 /jewishnh.org/community-calendar/brca1-and-brca2-the-ashkenazi-jewish-conn
 ection-1550855378\n\nWhat are BRCA genes?\nAre you at risk of having a BRC
 A gene mutation?\nShould you have genetic counseling?\n\nTuesday\, March 5
 th\n7 – 8 PM\n{Snowdate: Thursday\, March 14\, 7-8 PM}\n\n \n\nPresente
 d by:\nT. Salewa Oseni\, MD\, Breast Surgeon at Massachusetts General Hosp
 ital and Southern New Hampshire Health\nJanette Lawrence\, MS\, LCGC\, Sen
 ior Genetic Counselor at Massachusetts General Hospital\n\nSponsored by TB
 A Sisterhood\nOpen to both women and men!\n\nRSVP or for further info\, co
 ntact Rob...
DTSTART;TZID=America/New_York:20190305T190000
DTEND;TZID=America/New_York:20190305T200000
END:VEVENT
END:VCALENDAR
