BEGIN:VCALENDAR
PRODID:-//eluceo/ical//2.0/EN
VERSION:2.0
CALSCALE:GREGORIAN
BEGIN:VEVENT
UID:33a7e9d0d408ee0b5bf31fcc99671836
DTSTAMP:20260423T083653Z
SUMMARY:Breakfast with the Rabbi
DESCRIPTION:Jewish Federation of New Hampshire\nCommunity Calendar\nhttps:/
 /jewishnh.org/community-calendar/breakfast-with-the-rabbi-1560685268\n\nBr
 eakfast with the Rabbi at Temple Adath Yeshurun
DTSTART;TZID=America/New_York:20191116T093000
DTEND;TZID=America/New_York:20191116T111500
END:VEVENT
END:VCALENDAR
