BEGIN:VCALENDAR
PRODID:-//eluceo/ical//2.0/EN
VERSION:2.0
CALSCALE:GREGORIAN
BEGIN:VEVENT
UID:523841bdde4db305a830f44daf618996
DTSTAMP:20260422T140617Z
SUMMARY:Breakfast with the Rabbi at TAY
DESCRIPTION:Jewish Federation of New Hampshire\nCommunity Calendar\nhttps:/
 /jewishnh.org/community-calendar/breakfast-with-the-rabbi-at-tay-156068729
 4\n\nBreakfast with the Rabbi at Temple Adath Yeshurun
DTSTART;TZID=America/New_York:20200328T093000
DTEND;TZID=America/New_York:20200328T111500
END:VEVENT
END:VCALENDAR
