BEGIN:VCALENDAR
PRODID:-//eluceo/ical//2.0/EN
VERSION:2.0
CALSCALE:GREGORIAN
BEGIN:VEVENT
UID:1792f4ecbda6087432f5c2af41baca6f
DTSTAMP:20260422T163249Z
SUMMARY:Brotherhood and Sisterhood Service
DESCRIPTION:Jewish Federation of New Hampshire\nCommunity Calendar\nhttps:/
 /jewishnh.org/community-calendar/brotherhood-and-sisterhood-service-155379
 0829\n\nBrotherhood and Sisterhood Shabbat Service\n7pm\nTemple Adath Yesh
 urun
DTSTART;TZID=America/New_York:20190524T190000
DTEND;TZID=America/New_York:20190524T210000
END:VEVENT
END:VCALENDAR
