BEGIN:VCALENDAR
PRODID:-//eluceo/ical//2.0/EN
VERSION:2.0
CALSCALE:GREGORIAN
BEGIN:VEVENT
UID:45e622adabaca3d86d77ef562d6d95b5
DTSTAMP:20260423T000811Z
SUMMARY:Brotherhood Annual Meeting & BBQ at TAY
DESCRIPTION:Jewish Federation of New Hampshire\nCommunity Calendar\nhttps:/
 /jewishnh.org/community-calendar/brotherhood-annual-meeting--bbq-at-tay-15
 60696083\n\nBrotherhood Annual Meeting & BBQ at TAY
DTSTART;TZID=America/New_York:20200609T180000
DTEND;TZID=America/New_York:20200609T200000
END:VEVENT
END:VCALENDAR
