BEGIN:VCALENDAR
PRODID:-//eluceo/ical//2.0/EN
VERSION:2.0
CALSCALE:GREGORIAN
BEGIN:VEVENT
UID:fa353454c30b42c01e7cc156fcae2a4f
DTSTAMP:20260423T041525Z
SUMMARY:Brotherhood Annual Meeting and BBQ
DESCRIPTION:Jewish Federation of New Hampshire\nCommunity Calendar\nhttps:/
 /jewishnh.org/community-calendar/brotherhood-annual-meeting-and-bbq-155379
 2862\n\nBrotherhood's Annual Meeting and BBQ
DTSTART;TZID=America/New_York:20190604T180000
DTEND;TZID=America/New_York:20190604T200000
END:VEVENT
END:VCALENDAR
