BEGIN:VCALENDAR
PRODID:-//eluceo/ical//2.0/EN
VERSION:2.0
CALSCALE:GREGORIAN
BEGIN:VEVENT
UID:2d83d1c2a228981ccd03fef1f7dd609c
DTSTAMP:20260424T062115Z
SUMMARY:Brotherhood Breakfast and "Swim with a Mission"
DESCRIPTION:Jewish Federation of New Hampshire\nCommunity Calendar\nhttps:/
 /jewishnh.org/community-calendar/brotherhood-breakfast-and-swim-with-a-mis
 sion-1553790689\n\nBrotherhood Breakfast\nProgram "Swim with a Mission"\nT
 emple Adath Yeshurun\n152 Prospect Street\nManchester\, NH 03104
DTSTART;TZID=America/New_York:20190519T100000
DTEND;TZID=America/New_York:20190519T120000
END:VEVENT
END:VCALENDAR
