BEGIN:VCALENDAR
PRODID:-//eluceo/ical//2.0/EN
VERSION:2.0
CALSCALE:GREGORIAN
BEGIN:VEVENT
UID:eaf11a3ba9cb5009e73735d9b5731c34
DTSTAMP:20260422T234939Z
SUMMARY:Brotherhood Deli Night at TAY
DESCRIPTION:Jewish Federation of New Hampshire\nCommunity Calendar\nhttps:/
 /jewishnh.org/community-calendar/brotherhood-deli-night-at-tay-1560695646\
 n\nBrotherhood Deli Night at TAY\nTickets may be purchased in advance.\nTh
 is event is sold out annually.
DTSTART;TZID=America/New_York:20200125T180000
DTEND;TZID=America/New_York:20200125T220000
END:VEVENT
END:VCALENDAR
