BEGIN:VCALENDAR
PRODID:-//eluceo/ical//2.0/EN
VERSION:2.0
CALSCALE:GREGORIAN
BEGIN:VEVENT
UID:fd928afe4a3afac76798b35355d65bb9
DTSTAMP:20260423T041931Z
SUMMARY:Brotherhood Meeting and Breakfast at TAY
DESCRIPTION:Jewish Federation of New Hampshire\nCommunity Calendar\nhttps:/
 /jewishnh.org/community-calendar/brotherhood-meeting-and-breakfast-at-tay-
 1570191607\n\nBrotherhood Meeting and Breakfast
DTSTART;TZID=America/New_York:20191103T100000
DTEND;TZID=America/New_York:20191103T120000
END:VEVENT
END:VCALENDAR
