BEGIN:VCALENDAR
PRODID:-//eluceo/ical//2.0/EN
VERSION:2.0
CALSCALE:GREGORIAN
BEGIN:VEVENT
UID:863d0e3bd26f993b6e7974f0d91baca6
DTSTAMP:20260422T082632Z
SUMMARY:Brotherhood Purim Carnival at TAY
DESCRIPTION:Jewish Federation of New Hampshire\nCommunity Calendar\nhttps:/
 /jewishnh.org/community-calendar/brotherhood-purim-carnival-at-tay-1560686
 915\n\nPurim Carnival at Temple Adath Yeshurun
DTSTART;TZID=America/New_York:20200308T110000
DTEND;TZID=America/New_York:20200308T121500
END:VEVENT
END:VCALENDAR
