BEGIN:VCALENDAR
PRODID:-//eluceo/ical//2.0/EN
VERSION:2.0
CALSCALE:GREGORIAN
BEGIN:VEVENT
UID:43daac362fe5663e2990a4fa66ed4b1a
DTSTAMP:20260422T172015Z
SUMMARY:Brotherhood-Sisterhood Shabbat Service
DESCRIPTION:Jewish Federation of New Hampshire\nCommunity Calendar\nhttps:/
 /jewishnh.org/community-calendar/brotherhood-sisterhood-shabbat-service-16
 86133962\n\nPlease join us for a Musical Brotherhood Sisterhood Shabbat an
 d Sermon in song\, featuring the TAY Choir.
DTSTART;TZID=America/New_York:20230609T190000
DTEND;TZID=America/New_York:20230609T210000
END:VEVENT
END:VCALENDAR
