BEGIN:VCALENDAR
PRODID:-//eluceo/ical//2.0/EN
VERSION:2.0
CALSCALE:GREGORIAN
BEGIN:VEVENT
UID:8baed1b3c860bdcb8008b7d329a8d8b1
DTSTAMP:20260423T044527Z
SUMMARY:Brotherhood Sisterhood Shabbat Service at Temple Adath Yeshurun
DESCRIPTION:Jewish Federation of New Hampshire\nCommunity Calendar\nhttps:/
 /jewishnh.org/community-calendar/brotherhood-sisterhood-shabbat-service-at
 -temple-adath-yeshurun-1560694483\n\nBrotherhood Sisterhood Shabbat Servic
 e at Temple Adath Yeshurun
DTSTART;TZID=America/New_York:20200619T190000
DTEND;TZID=America/New_York:20200619T210000
END:VEVENT
END:VCALENDAR
