BEGIN:VCALENDAR
PRODID:-//eluceo/ical//2.0/EN
VERSION:2.0
CALSCALE:GREGORIAN
BEGIN:VEVENT
UID:a62363fe07e26601b5e2d6ad135d5de3
DTSTAMP:20260422T081859Z
SUMMARY:Brotherhood Spring Concert and Dinner
DESCRIPTION:Jewish Federation of New Hampshire\nCommunity Calendar\nhttps:/
 /jewishnh.org/community-calendar/brotherhood-spring-concert-and-dinner-155
 3790092\n\nBrotherhood Spring Concert and Dinner at 6pm\nTemple Adath Yesh
 urun
DTSTART;TZID=America/New_York:20190509T180000
DTEND;TZID=America/New_York:20190509T200000
END:VEVENT
END:VCALENDAR
