BEGIN:VCALENDAR
PRODID:-//eluceo/ical//2.0/EN
VERSION:2.0
CALSCALE:GREGORIAN
BEGIN:VEVENT
UID:5c69b5254a794ac8260a78c6a492c5b3
DTSTAMP:20260424T075449Z
SUMMARY:Brotherhood Spring Dinner Concert at Temple Adath Yeshurun
DESCRIPTION:Jewish Federation of New Hampshire\nCommunity Calendar\nhttps:/
 /jewishnh.org/community-calendar/brotherhood-spring-dinner-concert-at-temp
 le-adath-yeshurun-1560695797\n\nBrotherhood Spring Dinner Concert at Templ
 e Adath Yeshurun
DTSTART;TZID=America/New_York:20200507T180000
DTEND;TZID=America/New_York:20200507T200000
END:VEVENT
END:VCALENDAR
