BEGIN:VCALENDAR
PRODID:-//eluceo/ical//2.0/EN
VERSION:2.0
CALSCALE:GREGORIAN
BEGIN:VEVENT
UID:877be76e33aa93aaf2dca44602da97c0
DTSTAMP:20260422T182254Z
SUMMARY:Upper Valley Jewish Community Brown Bag Lunch and Learn
DESCRIPTION:Jewish Federation of New Hampshire\nCommunity Calendar\nhttps:/
 /jewishnh.org/community-calendar/brown-bag-lunch-and-learn-1699459428\n\nM
 elissa Herman will share information about the 2023 Project Preservation t
 rip at a Brown Bag Lunch and Learn following Shabbat services at Kol Ha'Em
 ek\, the Upper Valley Jewish Community.
DTSTART;TZID=America/New_York:20231202T123000
DTEND;TZID=America/New_York:20231202T123000
END:VEVENT
END:VCALENDAR
