BEGIN:VCALENDAR
PRODID:-//eluceo/ical//2.0/EN
VERSION:2.0
CALSCALE:GREGORIAN
BEGIN:VEVENT
UID:273a6db42bdcfd698faa54c2a938b02f
DTSTAMP:20260422T230018Z
SUMMARY:Build-A-Shabbat
DESCRIPTION:Jewish Federation of New Hampshire\nCommunity Calendar\nhttps:/
 /jewishnh.org/community-calendar/build-a-shabbat-1568311389\n\nYour kids w
 ill love this creative approach to celebrating Shabbat! Join us for a Shab
 bat-related project\, kid-approved dinner and short\, joyful\, Friday nigh
 t service. Your kids will receive their own Build-a-Shabbat Workshop apron
 . If your child attends all of the workshops\, they will earn a certificat
 e of achievement and a special gift! Build memories with your child\, and 
 enjoy using the special crafts they create at your own Shabbat table!\n\nB
 egins with a Yedidim Service\, then a join Yedid...
DTSTART;TZID=America/New_York:20190920T173000
DTEND;TZID=America/New_York:20190920T193000
END:VEVENT
END:VCALENDAR
