BEGIN:VCALENDAR
PRODID:-//eluceo/ical//2.0/EN
VERSION:2.0
CALSCALE:GREGORIAN
BEGIN:VEVENT
UID:342083167f64b9cd1d61d46b9d19bdbd
DTSTAMP:20260422T084116Z
SUMMARY:Camp Fun Day
DESCRIPTION:Jewish Federation of New Hampshire\nCommunity Calendar\nhttps:/
 /jewishnh.org/community-calendar/camp-fun-day\n\nTake a tour of the camp\,
  meet the staff\, participate in activities and more.  For more informati
 on and to RSVP: (781) 2379-9410 extension 3.
DTSTART;TZID=America/New_York:20180715T093000
DTEND;TZID=America/New_York:20180715T130000
END:VEVENT
END:VCALENDAR
