BEGIN:VCALENDAR
PRODID:-//eluceo/ical//2.0/EN
VERSION:2.0
CALSCALE:GREGORIAN
BEGIN:VEVENT
UID:9a2eccb5974e1d5ca172d82f4a24dbe3
DTSTAMP:20260423T000539Z
SUMMARY:Camp Ramah in New England Prospective Family Day
DESCRIPTION:Jewish Federation of New Hampshire\nCommunity Calendar\nhttps:/
 /jewishnh.org/community-calendar/camp-ramah-in-new-england-prospective-fam
 ily-day2\n\nTake a tour of the camp with the tennis courts\, sports fields
 \, arts and craft studios and more! More information and to RSVP contact L
 ori Fish Bard: lorib@campramahne.org
DTSTART;TZID=America/New_York:20180805T103000
DTEND;TZID=America/New_York:20180805T140000
END:VEVENT
END:VCALENDAR
