BEGIN:VCALENDAR
PRODID:-//eluceo/ical//2.0/EN
VERSION:2.0
CALSCALE:GREGORIAN
BEGIN:VEVENT
UID:26e4ef6aaaaeac4931352651439dda0e
DTSTAMP:20260424T221050Z
SUMMARY:Camp Yavneh For a Day
DESCRIPTION:Jewish Federation of New Hampshire\nCommunity Calendar\nhttps:/
 /jewishnh.org/community-calendar/camp-yavneh-for-a-day\n\nThinking About O
 vernight Camp for 2023?\n\nCome Experience Yavneh for a Day\n\nSunday\, Ju
 ly 10\, 2022 10:00 am – 2:00 pm\n\nGeared for children who are rising 1s
 t graders through 6th grade Every year more than 500 campers from 18 state
 s and 4 countries spend their summers at Camp Yavneh ~ Find Out Why ! Fami
 lies are invited to visit camp nestled in Northwood\, New Hampshire\, and 
 experience a real day of Camp Yavneh. Children and adults will enjoy a tou
 r of camp and participate in sports\, natu...
DTSTART;TZID=America/New_York:20220710T100000
DTEND;TZID=America/New_York:20220710T140000
END:VEVENT
END:VCALENDAR
