BEGIN:VCALENDAR
PRODID:-//eluceo/ical//2.0/EN
VERSION:2.0
CALSCALE:GREGORIAN
BEGIN:VEVENT
UID:5a7b8f6ef2f220a29db2bd0e372c3f8c
DTSTAMP:20260422T082356Z
SUMMARY:Cantor Jeff Klepper and Peter Allard in Concert!
DESCRIPTION:Jewish Federation of New Hampshire\nCommunity Calendar\nhttps:/
 /jewishnh.org/community-calendar/cantor-jeff-klepper-and-peter-allard-in-c
 oncert-1553793385\n\nCantor Jeff Klepper and Peter Allard in Concert at Te
 mple Adath Yeshurun.\nThis Concert is sponsored in part by a grant from Th
 e Jewish Federation of New Hampshire.\nSuggested donation is $5 per person
  or $10 per family.
DTSTART;TZID=America/New_York:20190330T190000
DTEND;TZID=America/New_York:20190330T210000
END:VEVENT
END:VCALENDAR
