BEGIN:VCALENDAR
PRODID:-//eluceo/ical//2.0/EN
VERSION:2.0
CALSCALE:GREGORIAN
BEGIN:VEVENT
UID:267e371a974a22762f89c720036fc772
DTSTAMP:20260423T103910Z
SUMMARY:Car Menorah Parade
DESCRIPTION:Jewish Federation of New Hampshire\nCommunity Calendar\nhttps:/
 /jewishnh.org/community-calendar/car-menorah-parade-1604954417\n\nJoin us 
 for the second Chanukah Car Menorah Parade in NH!\n\nSUNDAY\, DEC 13TH 1 P
 M\n\n- Drive a car and make history\n- Fun for the whole Family\n\nStartin
 g Point: The Jewish Center in Durham\nEnding Point: Chanukah on Ice @ Stra
 wbery Banke Museum\n\nRSVP required: JewishSeacoast.com/LightUP
DTSTART;TZID=America/New_York:20201213T130000
DTEND;TZID=America/New_York:20201213T140000
END:VEVENT
END:VCALENDAR
