BEGIN:VCALENDAR
PRODID:-//eluceo/ical//2.0/EN
VERSION:2.0
CALSCALE:GREGORIAN
BEGIN:VEVENT
UID:27e38cfc8f4bded2a15131968a34b247
DTSTAMP:20260422T160127Z
SUMMARY:Seacoast Chabad Car Menorah Parade
DESCRIPTION:Jewish Federation of New Hampshire\nCommunity Calendar\nhttps:/
 /jewishnh.org/community-calendar/car-menorah-parade-1701196169\n\nJoin us 
 for the annual Car Menorah Parade followed in the Seacoast of NH.\n\nWedne
 sday\, December 13 2pm\n\n• leaving from Jewish Center\n\n- Police Escor
 t\n\n- Drive a car and make history\n\n- Chanukah treats for each car\n\n-
  Followed by Menorah lighting inside The Jewish Center\n\nTo RSVP: JewishS
 eacoast.com/Parade
DTSTART;TZID=America/New_York:20231213T140000
DTEND;TZID=America/New_York:20231213T160000
END:VEVENT
END:VCALENDAR
