BEGIN:VCALENDAR
PRODID:-//eluceo/ical//2.0/EN
VERSION:2.0
CALSCALE:GREGORIAN
BEGIN:VEVENT
UID:d58aa8788e3afe97b62db9fc873b66e2
DTSTAMP:20260423T031121Z
SUMMARY:Celebrate Sukkot with PJ Library
DESCRIPTION:Jewish Federation of New Hampshire\nCommunity Calendar\nhttps:/
 /jewishnh.org/community-calendar/celebrate-sukkot-with-pj-library\n\nFamil
 ies with children 6month - 8 years old are invited to celebrate the Harves
 t holiday of Sukkot with PJ Library at an interactive afternoon of fun!\n*
  Create an edible Sukkot snack\n*Crafts\n*Story time\n\nThis is a FREE eve
 nt but please RSVP to pjlibrary@jewishnh.org by September 26th\n\nYou do 
 not need to be a PJ Library subscriber or Bethlehem Hebrew Congregation me
 mber to attend\, so grab a friend and join the fun!
DTSTART;TZID=America/New_York:20180930T140000
DTEND;TZID=America/New_York:20180930T160000
END:VEVENT
END:VCALENDAR
