BEGIN:VCALENDAR
PRODID:-//eluceo/ical//2.0/EN
VERSION:2.0
CALSCALE:GREGORIAN
BEGIN:VEVENT
UID:77488e2cddc06ef51b60621cfe24ea96
DTSTAMP:20260421T113812Z
SUMMARY:PJ Library Celebrates the Jewish High Holidays: A Family Program
DESCRIPTION:Jewish Federation of New Hampshire\nCommunity Calendar\nhttps:/
 /jewishnh.org/community-calendar/celebrate-the\n\nJoin PJ Library for a FR
 EE family program as we welcome in the Jewish New Year at Little Village T
 oy & Book Shop in Littleton\, NH including story time and a craft.\n\nSpac
 e is limited so please register by October 3rd.
DTSTART;TZID=America/New_York:20191006T140000
DTEND;TZID=America/New_York:20191006T160000
END:VEVENT
END:VCALENDAR
