BEGIN:VCALENDAR
PRODID:-//eluceo/ical//2.0/EN
VERSION:2.0
CALSCALE:GREGORIAN
BEGIN:VEVENT
UID:dd4bb2505f69ea78b68ba4f205cf274d
DTSTAMP:20260423T041952Z
SUMMARY:Celebration of the New Year for the Animals
DESCRIPTION:Jewish Federation of New Hampshire\nCommunity Calendar\nhttps:/
 /jewishnh.org/community-calendar/celebration-of-the-new-year-for-the-anima
 ls-1687120559\n\nFundraiser for the Conway Area Humane Society\n\nThe Moun
 t Washington Valley Chavurah is inviting both adults and children to come 
 to the Conway Area Humane Society on Saturday\, August 19th at noon to cel
 ebrate the New Year for the Animals. This holiday is on the Hebrew calenda
 r but is often overlooked. It is a day to reflect on our relationships wit
 h both our domesticated animals as well as those which are necessary to su
 pport our human lifestyles.\n\nAs part of the celebration\, and in furth..
 .
DTSTART;TZID=America/New_York:20230819T120000
DTEND;TZID=America/New_York:20230819T140000
END:VEVENT
END:VCALENDAR
