BEGIN:VCALENDAR
PRODID:-//eluceo/ical//2.0/EN
VERSION:2.0
CALSCALE:GREGORIAN
BEGIN:VEVENT
UID:ab29b605a105257aa81190ce0247fa77
DTSTAMP:20260424T105355Z
SUMMARY:Chabad Challah Bake
DESCRIPTION:Jewish Federation of New Hampshire\nCommunity Calendar\nhttps:/
 /jewishnh.org/community-calendar/chabad-challah-bake-1657151863\n\nBe a pa
 rt of New Hampshire's largest challah bake just before Rosh Hashanah! Join
  together with NH Jewish women to connect for an uplifting evening of unit
 y and inspiration as we knead challah to adorn our high holiday tables.\n\
 nDoors open at 6:30pm\nFor women and girls 11+\n\nThe cost ($25) for the e
 vent includes all the ingredients and utensils to prepare a challah!
DTSTART;TZID=America/New_York:20220911T190000
DTEND;TZID=America/New_York:20220911T204500
END:VEVENT
END:VCALENDAR
