BEGIN:VCALENDAR
PRODID:-//eluceo/ical//2.0/EN
VERSION:2.0
CALSCALE:GREGORIAN
BEGIN:VEVENT
UID:01453853c49de2740c5d6ccdd2f325ef
DTSTAMP:20260422T231833Z
SUMMARY:Chabad Menorah Lighting at the State House
DESCRIPTION:Jewish Federation of New Hampshire\nCommunity Calendar\nhttps:/
 /jewishnh.org/community-calendar/chabad-menorah-lighting-at-the-state-hous
 e-1571950564\n\nMenorah Lighting at the State House is slated for December
  22 at the State House in Concord. During the event\, the tallest menorah 
 in NH is lit. Chocolate Gelt will fly in the Giant Gelt Drop with JFNH Shl
 icha Avia Sagron. PJ Library will be on hand with Chanukah books and more!
DTSTART;TZID=America/New_York:20191222T160000
DTEND;TZID=America/New_York:20191222T164500
END:VEVENT
END:VCALENDAR
