BEGIN:VCALENDAR
PRODID:-//eluceo/ical//2.0/EN
VERSION:2.0
CALSCALE:GREGORIAN
BEGIN:VEVENT
UID:5140d917819b694d0356b7814fa01009
DTSTAMP:20260423T013716Z
SUMMARY:Chabad Purim Party
DESCRIPTION:Jewish Federation of New Hampshire\nCommunity Calendar\nhttps:/
 /jewishnh.org/community-calendar/chabad-purim-party-1709052033\n\nAs you w
 alk through the doors at the Chabad Center\, you will be transported to th
 e Lower East Side of NY\, circa 1910\,\nwith all the delicious foods\, sou
 nds and sights that go along with it. If you've ever attended a purim part
 y at Chabad\, you know you do not want to miss this!\n\nMegillah Reading 
 • Deli Dinner • Live Klezmer • Balloon Twisting • Lots more!
DTSTART;TZID=America/New_York:20240324T173000
DTEND;TZID=America/New_York:20240324T200000
END:VEVENT
END:VCALENDAR
