BEGIN:VCALENDAR
PRODID:-//eluceo/ical//2.0/EN
VERSION:2.0
CALSCALE:GREGORIAN
BEGIN:VEVENT
UID:b9a613f8a90db887c5acf48ef6a60b7c
DTSTAMP:20260422T062049Z
SUMMARY:CHAI Challenge: Conversation for Teens with NH Shaliach Ra’anan D
 e-Haas
DESCRIPTION:Jewish Federation of New Hampshire\nCommunity Calendar\nhttps:/
 /jewishnh.org/community-calendar/chai-challenge-conversation-for-teens-wit
 h-nh-shaliach-raanan-de-haas\n\nJoin JFNH Shaliach Ra'anan de-Haas for a s
 lice of pizza and a discussion on pop culture anti semitism.\n\nThis progr
 am will be in person at Chabad of Manchester and open to teens ages 13 - 1
 8.\n\n*This program is part of the CHAI Challenge. Teens who complete the 
 challenge during this academic year will receive a certificate of program 
 completion and a gift certificate. For more information on the challenge c
 ontact the JFNH office.\n\nPre-registration is required https://forms.gle
 /zZwVV456af...
DTSTART;TZID=America/New_York:20220327T180000
DTEND;TZID=America/New_York:20220327T190000
END:VEVENT
END:VCALENDAR
