BEGIN:VCALENDAR
PRODID:-//eluceo/ical//2.0/EN
VERSION:2.0
CALSCALE:GREGORIAN
BEGIN:VEVENT
UID:3eb5d870a510940d68045519ecac67c1
DTSTAMP:20260422T164854Z
SUMMARY:Champagne Fundraising Brunch
DESCRIPTION:Jewish Federation of New Hampshire\nCommunity Calendar\nhttps:/
 /jewishnh.org/community-calendar/champagne-fundraising-brunch\n\nChampagne
  Fundraising Brunch for Community Stained Glass Window\n 
DTSTART;TZID=America/New_York:20180624T000000
DTEND;TZID=America/New_York:20180624T000000
END:VEVENT
END:VCALENDAR
