BEGIN:VCALENDAR
PRODID:-//eluceo/ical//2.0/EN
VERSION:2.0
CALSCALE:GREGORIAN
BEGIN:VEVENT
UID:75d92f648f1cb2f381d932d470f5b0f0
DTSTAMP:20260422T123933Z
SUMMARY:Betenu Chanukah  Party and service
DESCRIPTION:Jewish Federation of New Hampshire\nCommunity Calendar\nhttps:/
 /jewishnh.org/community-calendar/chanukah--party-and-service-1574623026\n\
 nBring your own menorah and Chanukah  candles for a group lighting event. 
  There will be a yankee swap and competitive dreidel contest as well as a 
 family friendly service.
DTSTART;TZID=America/New_York:20191227T183000
DTEND;TZID=America/New_York:20191227T210000
END:VEVENT
END:VCALENDAR
