BEGIN:VCALENDAR
PRODID:-//eluceo/ical//2.0/EN
VERSION:2.0
CALSCALE:GREGORIAN
BEGIN:VEVENT
UID:10469a4d9915d8db4235f75d04b26c29
DTSTAMP:20260422T075602Z
SUMMARY:Chanukah 2022
DESCRIPTION:Jewish Federation of New Hampshire\nCommunity Calendar\nhttps:/
 /jewishnh.org/community-calendar/chanukah-2022\n\nBegins sunset Sunday\, 
 December 18\, 2022\nEnds evening Monday\, December 26\, 2022
DTSTART;TZID=America/New_York:20221218T000000
DTEND;TZID=America/New_York:20221226T235959
END:VEVENT
END:VCALENDAR
