BEGIN:VCALENDAR
PRODID:-//eluceo/ical//2.0/EN
VERSION:2.0
CALSCALE:GREGORIAN
BEGIN:VEVENT
UID:906925960ba76bf8835f7d7e9bd6f92f
DTSTAMP:20260422T192623Z
SUMMARY:Chanukah Adult Party
DESCRIPTION:Jewish Federation of New Hampshire\nCommunity Calendar\nhttps:/
 /jewishnh.org/community-calendar/chanukah-adult-party-1701181913\n\nJOIN U
 S FOR A CHANUKAH ADULT PARTY\n\nTHURSDAY DEC 14 | 7 PM\n\nJEWISH COMMUNITY
  CENTER\n2299 WOODBURY AVE. NEWINGTON NH 03801\n\nBuffet\, open bar\, latk
 es\, donuts and music\n\nMEN & WOMEN\n\nCouvert: $36 | Sponsorship Availab
 le\nRSVP: JewishSeacoast.com/Adult
DTSTART;TZID=America/New_York:20231214T190000
DTEND;TZID=America/New_York:20231214T210000
END:VEVENT
END:VCALENDAR
