BEGIN:VCALENDAR
PRODID:-//eluceo/ical//2.0/EN
VERSION:2.0
CALSCALE:GREGORIAN
BEGIN:VEVENT
UID:9b0bba1f3e504a703dde94c540b7d13d
DTSTAMP:20260424T025258Z
SUMMARY:Chanukah at the Mall & Gelt Drop
DESCRIPTION:Jewish Federation of New Hampshire\nCommunity Calendar\nhttps:/
 /jewishnh.org/community-calendar/chanukah-at-the-mall--gelt-drop-170118147
 4\n\nChanukah at The Mall and Gelt Drop\n \n\nWhen: Thursday\, Dec 7th 4:
 00pm\nWhere: Fox Run Mall (In Front Men’s Macy’s)\nWhy: Celebrate Chan
 ukah Together!\n-Donuts\n-Dreidles\n-Gelt\n-Crafts\n\n\n75 ft drop followe
 d by grand Chanukah Festival inside.\nRegister at JewishSeacoast.com/Mall
DTSTART;TZID=America/New_York:20231207T160000
DTEND;TZID=America/New_York:20231207T180000
END:VEVENT
END:VCALENDAR
