BEGIN:VCALENDAR
PRODID:-//eluceo/ical//2.0/EN
VERSION:2.0
CALSCALE:GREGORIAN
BEGIN:VEVENT
UID:59a02785f4acfa68fa74cfde22903a7d
DTSTAMP:20260424T042650Z
SUMMARY:Chanukah At The Mall And Gelt Drop
DESCRIPTION:Jewish Federation of New Hampshire\nCommunity Calendar\nhttps:/
 /jewishnh.org/community-calendar/chanukah-at-the-mall-and-gelt-drop-166802
 0626\n\nChanukah At The Mall And Gelt Drop\nAt the Mall at Fox Run\n\n75ft
  Drop followed by a Chanukah Festival inside\n\nWhen:\nThursday\, December
  22nd 4pm\n\nWhere:\nAt Fox Run Mall in front Men’s Macy’s\n\nWhy:\nCe
 lebrate Chanukah Together\n\n- Donuts\n- Dreidles\n- Gelt\n- Crafts\n\nReg
 ister at JewishSeacoast.com/Mall
DTSTART;TZID=America/New_York:20221222T160000
DTEND;TZID=America/New_York:20221222T180000
END:VEVENT
END:VCALENDAR
