BEGIN:VCALENDAR
PRODID:-//eluceo/ical//2.0/EN
VERSION:2.0
CALSCALE:GREGORIAN
BEGIN:VEVENT
UID:45901dca9a87cef229f7e38515059260
DTSTAMP:20260423T210324Z
SUMMARY:Chanukah at the Palace
DESCRIPTION:Jewish Federation of New Hampshire\nCommunity Calendar\nhttps:/
 /jewishnh.org/community-calendar/chanukah-at-the-palace-1669665870\n\nIt's
  a New Hampshire tradition!! This years annual Chanukah at the Palace will
  feature highly acclaimed mentalist {Craig Karges} and back by popular dem
 and magician {Jay Mattioni}. With Chanukah musical interlude and menorah l
 ighting with vocalist {Elazar Waldman}.
DTSTART;TZID=America/New_York:20221220T180000
DTEND;TZID=America/New_York:20221220T200000
END:VEVENT
END:VCALENDAR
