BEGIN:VCALENDAR
PRODID:-//eluceo/ical//2.0/EN
VERSION:2.0
CALSCALE:GREGORIAN
BEGIN:VEVENT
UID:c633688261b77bbed21cbef218f3a203
DTSTAMP:20260423T215311Z
SUMMARY:Chanukah at the Palace 2023
DESCRIPTION:Jewish Federation of New Hampshire\nCommunity Calendar\nhttps:/
 /jewishnh.org/community-calendar/chanukah-at-the-palace-2023\n\nIt's a New
  Hampshire tradition!! This years annual Chanukah at the Palace will featu
 re UV Circus Show and Ventriliquist Jack Williams.
DTSTART;TZID=America/New_York:20231212T180000
DTEND;TZID=America/New_York:20231212T200000
END:VEVENT
END:VCALENDAR
