BEGIN:VCALENDAR
PRODID:-//eluceo/ical//2.0/EN
VERSION:2.0
CALSCALE:GREGORIAN
BEGIN:VEVENT
UID:10dc2baae79397e426f1d5698789facf
DTSTAMP:20260424T000058Z
SUMMARY:Chanukah at the Palace with the Maccabeats
DESCRIPTION:Jewish Federation of New Hampshire\nCommunity Calendar\nhttps:/
 /jewishnh.org/community-calendar/chanukah-at-the-palace-with-the-maccabeat
 s\n\nOften travelling with little more than the shirts on their backs and 
 the ties on their necks\, the Maccabeats have entertained and inspired hun
 dreds of audiences worldwide\, from Alabama to (New) Zealand and everywher
 e in between. Using nothing more than the unadulterated human voice\, a cl
 ean-cut presentation\, and a little Jewish humor\, this unique group of si
 ngers is able to connect with fans of all backgrounds and ages.  
DTSTART;TZID=America/New_York:20211129T183000
DTEND;TZID=America/New_York:20211129T203000
END:VEVENT
END:VCALENDAR
