BEGIN:VCALENDAR
PRODID:-//eluceo/ical//2.0/EN
VERSION:2.0
CALSCALE:GREGORIAN
BEGIN:VEVENT
UID:e88aaff651966f5232751a2fe919da6e
DTSTAMP:20260423T172512Z
SUMMARY:Chanukah Candle Lighting on the Square
DESCRIPTION:Jewish Federation of New Hampshire\nCommunity Calendar\nhttps:/
 /jewishnh.org/community-calendar/chanukah-candle-lighting-on-the-square-16
 71132939\n\nMenorah lighting\, music\, donuts and hot chocolate on Keene's
  Central Square.
DTSTART;TZID=America/New_York:20221221T170000
DTEND;TZID=America/New_York:20221221T172000
END:VEVENT
END:VCALENDAR
