BEGIN:VCALENDAR
PRODID:-//eluceo/ical//2.0/EN
VERSION:2.0
CALSCALE:GREGORIAN
BEGIN:VEVENT
UID:f6ae09cbb9045d2bb46ec18c51455d1e
DTSTAMP:20260423T142740Z
SUMMARY:Chanukah Drive-In Movie night
DESCRIPTION:Jewish Federation of New Hampshire\nCommunity Calendar\nhttps:/
 /jewishnh.org/community-calendar/chanukah-drive-in-movie-night-1604954541\
 n\nJoin us for a fun menorah lighting followed by an outdoor\, drive-in mo
 vie night 'The Frisco Kid'\n\nThursday\, Dec 10th 6 PM\n\n@ the BarnZ's Ba
 rrington Cinema : 586 Calef Hwy #1\, Barrington\, NH\n\n$20 a car | Must R
 egister | Visit JewishSeacoast.com/Movie
DTSTART;TZID=America/New_York:20201210T180000
DTEND;TZID=America/New_York:20201210T200000
END:VEVENT
END:VCALENDAR
