BEGIN:VCALENDAR
PRODID:-//eluceo/ical//2.0/EN
VERSION:2.0
CALSCALE:GREGORIAN
BEGIN:VEVENT
UID:ee7ebc4e86a7ccd1b73899ee48a3f286
DTSTAMP:20260422T030349Z
SUMMARY:Chanukah Festival & Gelt Drop!
DESCRIPTION:Jewish Federation of New Hampshire\nCommunity Calendar\nhttps:/
 /jewishnh.org/community-calendar/chanukah-festival--gelt-drop-1575323288\n
 \nCHANUKAH FESTIVAL & GELT DROP!@ MALL AT FOX RUNTHURSDAY | DEC 26TH Follo
 wing the car menorah parade!*75 ft Gelt Drop from fire truck *MUSIC *DONUT
 S  *LATKES  *DREIDELS  *ARTS N CRAFTS *LARGE MENORAH LIGHTINGFREE ADMISSI
 ON! ALL ARE WELCOME! RSVP at JewishSeacoast.com/Mall | 603-205-6598
DTSTART;TZID=America/New_York:20191226T153000
DTEND;TZID=America/New_York:20191226T170000
END:VEVENT
END:VCALENDAR
