BEGIN:VCALENDAR
PRODID:-//eluceo/ical//2.0/EN
VERSION:2.0
CALSCALE:GREGORIAN
BEGIN:VEVENT
UID:683b67dfe27009718e408090089ec22b
DTSTAMP:20260422T062328Z
SUMMARY:Temple Israel Chanukah Food Drive
DESCRIPTION:Jewish Federation of New Hampshire\nCommunity Calendar\nhttps:/
 /jewishnh.org/community-calendar/chanukah-food-drive-1670412878\n\nThis ye
 ar we are collecting for Families in Transition. We have donation bags com
 plete with lists of much needed items in our lobby. Please call or email t
 he office for more information.
DTSTART;TZID=America/New_York:20221207T070000
DTEND;TZID=America/New_York:20221222T150000
END:VEVENT
END:VCALENDAR
