BEGIN:VCALENDAR
PRODID:-//eluceo/ical//2.0/EN
VERSION:2.0
CALSCALE:GREGORIAN
BEGIN:VEVENT
UID:45dad6924a6b6b34ba1430c9e442a0b1
DTSTAMP:20260423T095649Z
SUMMARY:Chanukah Lego Land
DESCRIPTION:Jewish Federation of New Hampshire\nCommunity Calendar\nhttps:/
 /jewishnh.org/community-calendar/chanukah-legoland-1701181255\n\nJoin us f
 or a BLOCK-tastic Chanukah Lego extravaganza!✨\n\nGet ready to light up 
 the holiday season like never before with your very own Lego light-up meno
 rah! And that's not all – we've got a smorgasbord of Chanukah delights w
 aiting for you:\n\nDive into a delectable donut bar with all your favorite
  flavors!\n☕Warm up with a cozy hot cocoa bar to keep the chill away!\nL
 et your creativity shine with fantastic face painting for kids of all ages
 !\n\nMark your calendars for Sunday\, Decembe...
DTSTART;TZID=America/New_York:20231203T110000
DTEND;TZID=America/New_York:20231203T120000
END:VEVENT
END:VCALENDAR
