BEGIN:VCALENDAR
PRODID:-//eluceo/ical//2.0/EN
VERSION:2.0
CALSCALE:GREGORIAN
BEGIN:VEVENT
UID:c0466998045d0024e4485e3f71532c7b
DTSTAMP:20260422T123853Z
SUMMARY:Chanukah Menorah Lighting Drive In
DESCRIPTION:Jewish Federation of New Hampshire\nCommunity Calendar\nhttps:/
 /jewishnh.org/community-calendar/chanukah-menorah-lighting-drive-in-160494
 9689\n\nEtz Hayim Synagogue will host a drive in Menorah Lighting event on
  Sunday\, 12/13 at 5:30 PM in front of the synagogue at 1 1/2 Hood Rd\, De
 rry. We have built a large outdoor menorah which we will light\, including
  prayers\, Chanukah songs and bring your own treats. All are welcome to pa
 rk and either stay in or beside your vehicle during the event.
DTSTART;TZID=America/New_York:20201213T173000
DTEND;TZID=America/New_York:20201213T183000
END:VEVENT
END:VCALENDAR
