BEGIN:VCALENDAR
PRODID:-//eluceo/ical//2.0/EN
VERSION:2.0
CALSCALE:GREGORIAN
BEGIN:VEVENT
UID:4cf522a00d81fed4a4f7fff521311712
DTSTAMP:20260424T233602Z
SUMMARY:Chanukah Menorah Lighting Drive In
DESCRIPTION:Jewish Federation of New Hampshire\nCommunity Calendar\nhttps:/
 /jewishnh.org/community-calendar/chanukah-menorah-lighting-drive-in-163370
 5392\n\nWe will light our giant outdoor menorah with the Chanukah prayers\
 , songs and more. 
DTSTART;TZID=America/New_York:20211128T173000
DTEND;TZID=America/New_York:20211128T183000
END:VEVENT
END:VCALENDAR
