BEGIN:VCALENDAR
PRODID:-//eluceo/ical//2.0/EN
VERSION:2.0
CALSCALE:GREGORIAN
BEGIN:VEVENT
UID:14c2abec017a4f1a68731d44381f697c
DTSTAMP:20260421T225215Z
SUMMARY:CHANUKAH MENORAH LIGHTING IN BETHLEHEM
DESCRIPTION:Jewish Federation of New Hampshire\nCommunity Calendar\nhttps:/
 /jewishnh.org/community-calendar/chanukah-menorah-lighting-in-bethlehem-16
 71202515\n\nHanukkah Menorah Lighting December 18 through 25 on Bethlehem 
 Town Hall Lawn\, Bethlehem\, NH. Times: Dec 18-22 at 5 pm\, Dec 23 at 4 pm
 \, Dec 24-25 at 5 pm.
DTSTART;TZID=America/New_York:20221218T170000
DTEND;TZID=America/New_York:20221225T170000
END:VEVENT
END:VCALENDAR
